Package: DifferentialRegulation Version: 2.4.0 Command: /Library/Frameworks/R.framework/Resources/bin/R CMD INSTALL DifferentialRegulation StartedAt: 2025-03-31 16:21:17 -0400 (Mon, 31 Mar 2025) EndedAt: 2025-03-31 16:22:09 -0400 (Mon, 31 Mar 2025) EllapsedTime: 52.3 seconds RetCode: 0 Status: OK