Package: DifferentialRegulation Version: 2.4.0 Command: /Library/Frameworks/R.framework/Resources/bin/R CMD check --install=check:DifferentialRegulation.install-out.txt --library=/Library/Frameworks/R.framework/Resources/library --no-vignettes --timings DifferentialRegulation_2.4.0.tar.gz StartedAt: 2025-04-01 17:22:48 -0400 (Tue, 01 Apr 2025) EndedAt: 2025-04-01 17:28:54 -0400 (Tue, 01 Apr 2025) EllapsedTime: 366.1 seconds RetCode: 0 Status: OK CheckDir: DifferentialRegulation.Rcheck Warnings: 0