Package: DifferentialRegulation Version: 2.4.0 Command: /Library/Frameworks/R.framework/Resources/bin/R CMD build --keep-empty-dirs --no-resave-data DifferentialRegulation StartedAt: 2025-03-31 22:32:59 -0400 (Mon, 31 Mar 2025) EndedAt: 2025-03-31 22:36:10 -0400 (Mon, 31 Mar 2025) EllapsedTime: 191.4 seconds RetCode: 0 Status: OK PackageFile: DifferentialRegulation_2.4.0.tar.gz PackageFileSize: 2.806 MiB