Package: DiffLogo Version: 2.30.0 Command: /home/biocbuild/bbs-3.20-bioc/R/bin/R CMD check --install=check:DiffLogo.install-out.txt --library=/home/biocbuild/bbs-3.20-bioc/R/site-library --timings DiffLogo_2.30.0.tar.gz StartedAt: 2024-11-20 01:57:09 -0500 (Wed, 20 Nov 2024) EndedAt: 2024-11-20 01:58:24 -0500 (Wed, 20 Nov 2024) EllapsedTime: 75.2 seconds RetCode: 0 Status: WARNINGS CheckDir: DiffLogo.Rcheck Warnings: 1