Package: DiffBind Version: 3.16.0 Command: rm -rf DiffBind.buildbin-libdir && mkdir DiffBind.buildbin-libdir && /Users/biocbuild/BBS/utils/build-universal.sh DiffBind_3.16.0.tar.gz /Library/Frameworks/R.framework/Resources/bin/R DiffBind.buildbin-libdir StartedAt: 2025-04-02 14:05:47 -0400 (Wed, 02 Apr 2025) EndedAt: 2025-04-02 14:07:24 -0400 (Wed, 02 Apr 2025) EllapsedTime: 97.1 seconds RetCode: 0 Status: OK PackageFile: DiffBind_3.16.0.tgz PackageFileSize: 6.989 MiB