Package: DepecheR Version: 1.22.0 Command: /home/biocbuild/R/R/bin/R CMD build --keep-empty-dirs --no-resave-data DepecheR StartedAt: 2025-01-27 23:50:45 -0000 (Mon, 27 Jan 2025) EndedAt: 2025-01-27 23:51:51 -0000 (Mon, 27 Jan 2025) EllapsedTime: 66.0 seconds RetCode: 0 Status: OK PackageFile: DepecheR_1.22.0.tar.gz PackageFileSize: 2.686 MiB