Package: DepecheR Version: 1.22.0 Command: /Library/Frameworks/R.framework/Resources/bin/R CMD INSTALL DepecheR StartedAt: 2025-01-27 15:59:22 -0500 (Mon, 27 Jan 2025) EndedAt: 2025-01-27 16:00:20 -0500 (Mon, 27 Jan 2025) EllapsedTime: 57.9 seconds RetCode: 0 Status: OK