Package: DepInfeR Version: 1.10.0 Command: /home/biocbuild/R/R/bin/R CMD INSTALL DepInfeR StartedAt: 2025-02-10 20:50:24 -0000 (Mon, 10 Feb 2025) EndedAt: 2025-02-10 20:50:32 -0000 (Mon, 10 Feb 2025) EllapsedTime: 7.5 seconds RetCode: 0 Status: OK