Package: DepInfeR Version: 1.10.0 Command: chmod a+r DepInfeR -R && F:\biocbuild\bbs-3.20-bioc\R\bin\R.exe CMD build --keep-empty-dirs --no-resave-data DepInfeR StartedAt: 2025-02-10 18:32:05 -0500 (Mon, 10 Feb 2025) EndedAt: 2025-02-10 18:33:20 -0500 (Mon, 10 Feb 2025) EllapsedTime: 74.7 seconds RetCode: 0 Status: OK PackageFile: DepInfeR_1.10.0.tar.gz PackageFileSize: 1.753 MiB