Package: DepInfeR Version: 1.10.0 Command: /home/biocbuild/bbs-3.20-bioc/R/bin/R CMD INSTALL DepInfeR StartedAt: 2025-02-10 15:46:15 -0500 (Mon, 10 Feb 2025) EndedAt: 2025-02-10 15:46:21 -0500 (Mon, 10 Feb 2025) EllapsedTime: 5.6 seconds RetCode: 0 Status: OK