Package: DepInfeR Version: 1.10.0 Command: /home/biocbuild/bbs-3.20-bioc/R/bin/R CMD check --install=check:DepInfeR.install-out.txt --library=/home/biocbuild/bbs-3.20-bioc/R/site-library --timings DepInfeR_1.10.0.tar.gz StartedAt: 2025-02-10 21:37:42 -0500 (Mon, 10 Feb 2025) EndedAt: 2025-02-10 21:40:02 -0500 (Mon, 10 Feb 2025) EllapsedTime: 140.2 seconds RetCode: 0 Status: OK CheckDir: DepInfeR.Rcheck Warnings: 0