Package: DepInfeR Version: 1.10.0 Command: /Library/Frameworks/R.framework/Resources/bin/R CMD INSTALL DepInfeR StartedAt: 2025-02-10 16:07:17 -0500 (Mon, 10 Feb 2025) EndedAt: 2025-02-10 16:07:30 -0500 (Mon, 10 Feb 2025) EllapsedTime: 13.0 seconds RetCode: 0 Status: OK