Package: DepInfeR Version: 1.10.0 Command: /Library/Frameworks/R.framework/Resources/bin/R CMD check --install=check:DepInfeR.install-out.txt --library=/Library/Frameworks/R.framework/Resources/library --no-vignettes --timings DepInfeR_1.10.0.tar.gz StartedAt: 2025-02-11 02:26:55 -0500 (Tue, 11 Feb 2025) EndedAt: 2025-02-11 02:30:33 -0500 (Tue, 11 Feb 2025) EllapsedTime: 218.4 seconds RetCode: 0 Status: OK CheckDir: DepInfeR.Rcheck Warnings: 0