Package: DepInfeR Version: 1.10.0 Command: /Library/Frameworks/R.framework/Resources/bin/R CMD build --keep-empty-dirs --no-resave-data DepInfeR StartedAt: 2025-02-10 18:21:24 -0500 (Mon, 10 Feb 2025) EndedAt: 2025-02-10 18:23:34 -0500 (Mon, 10 Feb 2025) EllapsedTime: 129.2 seconds RetCode: 0 Status: OK PackageFile: DepInfeR_1.10.0.tar.gz PackageFileSize: 2.337 MiB