Package: DepInfeR Version: 1.10.0 Command: /Library/Frameworks/R.framework/Resources/bin/R CMD check --install=check:DepInfeR.install-out.txt --library=/Library/Frameworks/R.framework/Resources/library --no-vignettes --timings DepInfeR_1.10.0.tar.gz StartedAt: 2025-02-14 17:40:34 -0500 (Fri, 14 Feb 2025) EndedAt: 2025-02-14 17:42:21 -0500 (Fri, 14 Feb 2025) EllapsedTime: 107.0 seconds RetCode: 0 Status: OK CheckDir: DepInfeR.Rcheck Warnings: 0