Package: DelayedTensor Version: 1.12.0 Command: /home/biocbuild/bbs-3.20-bioc/R/bin/R CMD INSTALL DelayedTensor StartedAt: 2025-03-31 15:52:59 -0400 (Mon, 31 Mar 2025) EndedAt: 2025-03-31 15:53:26 -0400 (Mon, 31 Mar 2025) EllapsedTime: 26.4 seconds RetCode: 0 Status: OK