Package: DelayedTensor Version: 1.12.0 Command: /home/biocbuild/bbs-3.20-bioc/R/bin/R CMD build --keep-empty-dirs --no-resave-data --md5 DelayedTensor StartedAt: 2025-01-27 17:54:06 -0500 (Mon, 27 Jan 2025) EndedAt: 2025-01-27 17:57:10 -0500 (Mon, 27 Jan 2025) EllapsedTime: 184.2 seconds RetCode: 0 Status: OK PackageFile: DelayedTensor_1.12.0.tar.gz PackageFileSize: 4.13 MiB