Package: DelayedTensor Version: 1.12.0 Command: /Library/Frameworks/R.framework/Resources/bin/R CMD INSTALL DelayedTensor StartedAt: 2025-01-30 16:32:02 -0500 (Thu, 30 Jan 2025) EndedAt: 2025-01-30 16:33:02 -0500 (Thu, 30 Jan 2025) EllapsedTime: 59.9 seconds RetCode: 0 Status: OK