Package: DelayedRandomArray Version: 1.14.0 Command: chmod a+r DelayedRandomArray -R && F:\biocbuild\bbs-3.20-bioc\R\bin\R.exe CMD build --keep-empty-dirs --no-resave-data DelayedRandomArray StartedAt: 2025-01-27 18:23:55 -0500 (Mon, 27 Jan 2025) EndedAt: 2025-01-27 18:25:08 -0500 (Mon, 27 Jan 2025) EllapsedTime: 73.7 seconds RetCode: 0 Status: OK PackageFile: DelayedRandomArray_1.14.0.tar.gz PackageFileSize: 318.6 KiB