Package: DelayedDataFrame Version: 1.22.0 Command: rm -rf DelayedDataFrame.buildbin-libdir && mkdir DelayedDataFrame.buildbin-libdir && /Users/biocbuild/BBS/utils/build-universal.sh DelayedDataFrame_1.22.0.tar.gz /Library/Frameworks/R.framework/Resources/bin/R DelayedDataFrame.buildbin-libdir StartedAt: 2025-01-28 12:58:00 -0500 (Tue, 28 Jan 2025) EndedAt: 2025-01-28 12:58:43 -0500 (Tue, 28 Jan 2025) EllapsedTime: 43.1 seconds RetCode: 0 Status: OK PackageFile: DelayedDataFrame_1.22.0.tgz PackageFileSize: 918.8 KiB