Package: DelayedArray Version: 0.32.0 Command: /home/biocbuild/R/R/bin/R CMD INSTALL DelayedArray StartedAt: 2025-02-03 20:27:37 -0000 (Mon, 03 Feb 2025) EndedAt: 2025-02-03 20:28:39 -0000 (Mon, 03 Feb 2025) EllapsedTime: 61.7 seconds RetCode: 0 Status: OK