Package: DelayedArray Version: 0.32.0 Command: F:\biocbuild\bbs-3.20-bioc\R\bin\R.exe CMD INSTALL DelayedArray StartedAt: 2025-03-31 15:39:39 -0400 (Mon, 31 Mar 2025) EndedAt: 2025-03-31 15:43:09 -0400 (Mon, 31 Mar 2025) EllapsedTime: 209.5 seconds RetCode: 0 Status: OK