Package: DelayedArray Version: 0.32.0 Command: _R_CHECK_CODETOOLS_PROFILE_="suppressFundefMismatch=TRUE" /home/biocbuild/bbs-3.20-bioc/R/bin/R CMD check --install=check:DelayedArray.install-out.txt --library=/home/biocbuild/bbs-3.20-bioc/R/site-library --timings DelayedArray_0.32.0.tar.gz StartedAt: 2025-03-31 21:27:55 -0400 (Mon, 31 Mar 2025) EndedAt: 2025-03-31 21:51:35 -0400 (Mon, 31 Mar 2025) EllapsedTime: 1419.4 seconds RetCode: 0 Status: WARNINGS CheckDir: DelayedArray.Rcheck Warnings: 1