Package: DelayedArray Version: 0.32.0 Command: _R_CHECK_CODETOOLS_PROFILE_="suppressFundefMismatch=TRUE" /Library/Frameworks/R.framework/Resources/bin/R CMD check --install=check:DelayedArray.install-out.txt --library=/Library/Frameworks/R.framework/Resources/library --no-vignettes --timings DelayedArray_0.32.0.tar.gz StartedAt: 2025-01-28 17:03:23 -0500 (Tue, 28 Jan 2025) EndedAt: 2025-01-28 17:31:43 -0500 (Tue, 28 Jan 2025) EllapsedTime: 1699.9 seconds RetCode: 0 Status: WARNINGS CheckDir: DelayedArray.Rcheck Warnings: 1