Package: DegNorm Version: 1.16.0 Command: /home/biocbuild/bbs-3.20-bioc/R/bin/R CMD check --install=check:DegNorm.install-out.txt --library=/home/biocbuild/bbs-3.20-bioc/R/site-library --timings DegNorm_1.16.0.tar.gz StartedAt: 2025-03-31 21:26:24 -0400 (Mon, 31 Mar 2025) EndedAt: 2025-03-31 21:36:54 -0400 (Mon, 31 Mar 2025) EllapsedTime: 629.6 seconds RetCode: 0 Status: OK CheckDir: DegNorm.Rcheck Warnings: 0