Package: DegNorm Version: 1.16.0 Command: /Library/Frameworks/R.framework/Resources/bin/R CMD INSTALL DegNorm StartedAt: 2025-03-31 17:43:25 -0400 (Mon, 31 Mar 2025) EndedAt: 2025-03-31 17:44:23 -0400 (Mon, 31 Mar 2025) EllapsedTime: 57.9 seconds RetCode: 0 Status: OK