Package: DegCre Version: 1.2.0 Command: /home/biocbuild/R/R/bin/R CMD INSTALL DegCre StartedAt: 2025-01-27 21:29:02 -0000 (Mon, 27 Jan 2025) EndedAt: 2025-01-27 21:29:51 -0000 (Mon, 27 Jan 2025) EllapsedTime: 49.0 seconds RetCode: 0 Status: OK