Package: DegCre Version: 1.2.0 Command: /home/biocbuild/R/R/bin/R CMD build --keep-empty-dirs --no-resave-data DegCre StartedAt: 2025-01-27 23:46:55 -0000 (Mon, 27 Jan 2025) EndedAt: 2025-01-27 23:48:43 -0000 (Mon, 27 Jan 2025) EllapsedTime: 108.0 seconds RetCode: 0 Status: OK PackageFile: DegCre_1.2.0.tar.gz PackageFileSize: 2.086 MiB