Package: DegCre Version: 1.2.0 Command: /home/biocbuild/bbs-3.20-bioc/R/bin/R CMD INSTALL DegCre StartedAt: 2025-02-03 15:31:38 -0500 (Mon, 03 Feb 2025) EndedAt: 2025-02-03 15:32:20 -0500 (Mon, 03 Feb 2025) EllapsedTime: 42.4 seconds RetCode: 0 Status: OK