Package: DegCre Version: 1.2.0 Command: /home/biocbuild/bbs-3.20-bioc/R/bin/R CMD check --install=check:DegCre.install-out.txt --library=/home/biocbuild/bbs-3.20-bioc/R/site-library --timings DegCre_1.2.0.tar.gz StartedAt: 2025-02-03 21:38:45 -0500 (Mon, 03 Feb 2025) EndedAt: 2025-02-03 21:46:03 -0500 (Mon, 03 Feb 2025) EllapsedTime: 438.4 seconds RetCode: 0 Status: WARNINGS CheckDir: DegCre.Rcheck Warnings: 1