Package: DegCre Version: 1.2.0 Command: /home/biocbuild/bbs-3.20-bioc/R/bin/R CMD build --keep-empty-dirs --no-resave-data --md5 DegCre StartedAt: 2025-01-27 17:52:59 -0500 (Mon, 27 Jan 2025) EndedAt: 2025-01-27 17:54:17 -0500 (Mon, 27 Jan 2025) EllapsedTime: 78.1 seconds RetCode: 0 Status: OK PackageFile: DegCre_1.2.0.tar.gz PackageFileSize: 2.29 MiB