Package: DegCre Version: 1.2.0 Command: /Library/Frameworks/R.framework/Resources/bin/R CMD check --install=check:DegCre.install-out.txt --library=/Library/Frameworks/R.framework/Resources/library --no-vignettes --timings DegCre_1.2.0.tar.gz StartedAt: 2025-02-04 02:26:38 -0500 (Tue, 04 Feb 2025) EndedAt: 2025-02-04 02:44:08 -0500 (Tue, 04 Feb 2025) EllapsedTime: 1049.8 seconds RetCode: 0 Status: WARNINGS CheckDir: DegCre.Rcheck Warnings: 1