Package: DegCre Version: 1.2.0 Command: /Library/Frameworks/R.framework/Resources/bin/R CMD build --keep-empty-dirs --no-resave-data DegCre StartedAt: 2024-11-19 16:32:58 -0500 (Tue, 19 Nov 2024) EndedAt: 2024-11-19 16:34:59 -0500 (Tue, 19 Nov 2024) EllapsedTime: 120.6 seconds RetCode: 0 Status: OK PackageFile: DegCre_1.2.0.tar.gz PackageFileSize: 2.422 MiB