Package: DegCre Version: 1.2.0 Command: rm -rf DegCre.buildbin-libdir && mkdir DegCre.buildbin-libdir && /Users/biocbuild/BBS/utils/build-universal.sh DegCre_1.2.0.tar.gz /Library/Frameworks/R.framework/Resources/bin/R DegCre.buildbin-libdir StartedAt: 2024-11-20 04:22:55 -0500 (Wed, 20 Nov 2024) EndedAt: 2024-11-20 04:23:57 -0500 (Wed, 20 Nov 2024) EllapsedTime: 61.9 seconds RetCode: 0 Status: OK PackageFile: DegCre_1.2.0.tgz PackageFileSize: 2.54 MiB