Package: DegCre Version: 1.2.0 Command: rm -rf DegCre.buildbin-libdir && mkdir DegCre.buildbin-libdir && /Users/biocbuild/BBS/utils/build-universal.sh DegCre_1.2.0.tar.gz /Library/Frameworks/R.framework/Resources/bin/R DegCre.buildbin-libdir StartedAt: 2025-01-29 14:20:31 -0500 (Wed, 29 Jan 2025) EndedAt: 2025-01-29 14:21:22 -0500 (Wed, 29 Jan 2025) EllapsedTime: 51.0 seconds RetCode: 0 Status: OK PackageFile: DegCre_1.2.0.tgz PackageFileSize: 2.541 MiB