Package: DeepTarget Version: 1.0.0 Command: /home/biocbuild/R/R/bin/R CMD build --keep-empty-dirs --no-resave-data DeepTarget StartedAt: 2025-01-27 23:46:04 -0000 (Mon, 27 Jan 2025) EndedAt: 2025-01-27 23:46:59 -0000 (Mon, 27 Jan 2025) EllapsedTime: 55.0 seconds RetCode: 0 Status: OK PackageFile: DeepTarget_1.0.0.tar.gz PackageFileSize: 2.379 MiB