Package: DeepTarget Version: 1.0.0 Command: F:\biocbuild\bbs-3.20-bioc\R\bin\R.exe CMD INSTALL DeepTarget StartedAt: 2025-01-27 17:01:38 -0500 (Mon, 27 Jan 2025) EndedAt: 2025-01-27 17:02:12 -0500 (Mon, 27 Jan 2025) EllapsedTime: 33.8 seconds RetCode: 0 Status: OK