Package: DeepTarget Version: 1.0.0 Command: /home/biocbuild/bbs-3.20-bioc/R/bin/R CMD INSTALL DeepTarget StartedAt: 2025-01-27 16:52:30 -0500 (Mon, 27 Jan 2025) EndedAt: 2025-01-27 16:52:55 -0500 (Mon, 27 Jan 2025) EllapsedTime: 25.5 seconds RetCode: 0 Status: OK