Package: DeepTarget Version: 1.0.0 Command: /Library/Frameworks/R.framework/Resources/bin/R CMD INSTALL DeepTarget StartedAt: 2025-03-31 18:08:49 -0400 (Mon, 31 Mar 2025) EndedAt: 2025-03-31 18:09:13 -0400 (Mon, 31 Mar 2025) EllapsedTime: 24.1 seconds RetCode: 0 Status: OK