Package: DeepTarget Version: 1.0.0 Command: rm -rf DeepTarget.buildbin-libdir && mkdir DeepTarget.buildbin-libdir && /Users/biocbuild/BBS/utils/build-universal.sh DeepTarget_1.0.0.tar.gz /Library/Frameworks/R.framework/Resources/bin/R DeepTarget.buildbin-libdir StartedAt: 2025-01-29 14:20:09 -0500 (Wed, 29 Jan 2025) EndedAt: 2025-01-29 14:20:36 -0500 (Wed, 29 Jan 2025) EllapsedTime: 27.0 seconds RetCode: 0 Status: OK PackageFile: DeepTarget_1.0.0.tgz PackageFileSize: 2.817 MiB