Package: DeepPINCS Version: 1.14.0 Command: chmod a+r DeepPINCS -R && F:\biocbuild\bbs-3.20-bioc\R\bin\R.exe CMD build --keep-empty-dirs --no-resave-data DeepPINCS StartedAt: 2025-01-27 18:21:25 -0500 (Mon, 27 Jan 2025) EndedAt: 2025-01-27 18:23:35 -0500 (Mon, 27 Jan 2025) EllapsedTime: 130.0 seconds RetCode: 1 Status: ERROR PackageFile: None PackageFileSize: NA