Package: DeepPINCS Version: 1.14.0 Command: /home/biocbuild/bbs-3.20-bioc/R/bin/R CMD build --keep-empty-dirs --no-resave-data --md5 DeepPINCS StartedAt: 2025-01-27 17:52:30 -0500 (Mon, 27 Jan 2025) EndedAt: 2025-01-27 17:52:49 -0500 (Mon, 27 Jan 2025) EllapsedTime: 19.0 seconds RetCode: 0 Status: OK PackageFile: DeepPINCS_1.14.0.tar.gz PackageFileSize: 2.44 MiB