Package: DeconRNASeq Version: 1.48.0 Command: /Library/Frameworks/R.framework/Resources/bin/R CMD build --keep-empty-dirs --no-resave-data DeconRNASeq StartedAt: 2025-03-31 22:01:51 -0400 (Mon, 31 Mar 2025) EndedAt: 2025-03-31 22:02:07 -0400 (Mon, 31 Mar 2025) EllapsedTime: 15.8 seconds RetCode: 0 Status: OK PackageFile: DeconRNASeq_1.48.0.tar.gz PackageFileSize: 6.623 MiB