Package: DeMAND Version: 1.36.0 Command: rm -rf DeMAND.buildbin-libdir && mkdir DeMAND.buildbin-libdir && /Users/biocbuild/BBS/utils/build-universal.sh DeMAND_1.36.0.tar.gz /Library/Frameworks/R.framework/Resources/bin/R DeMAND.buildbin-libdir StartedAt: 2025-01-28 12:58:35 -0500 (Tue, 28 Jan 2025) EndedAt: 2025-01-28 12:58:41 -0500 (Tue, 28 Jan 2025) EllapsedTime: 6.3 seconds RetCode: 0 Status: OK PackageFile: DeMAND_1.36.0.tgz PackageFileSize: 351.3 KiB