Package: DaMiRseq Version: 2.18.0 Command: /Library/Frameworks/R.framework/Resources/bin/R CMD INSTALL DaMiRseq StartedAt: 2025-02-03 16:32:38 -0500 (Mon, 03 Feb 2025) EndedAt: 2025-02-03 16:34:38 -0500 (Mon, 03 Feb 2025) EllapsedTime: 120.0 seconds RetCode: 0 Status: OK