Package: DTA Version: 2.52.0 Command: /home/biocbuild/R/R/bin/R CMD INSTALL DTA StartedAt: 2025-01-27 21:03:16 -0000 (Mon, 27 Jan 2025) EndedAt: 2025-01-27 21:03:39 -0000 (Mon, 27 Jan 2025) EllapsedTime: 22.7 seconds RetCode: 0 Status: OK