Package: DTA Version: 2.52.0 Command: F:\biocbuild\bbs-3.20-bioc\R\bin\R.exe CMD check --no-multiarch --install=check:DTA.install-out.txt --library=F:\biocbuild\bbs-3.20-bioc\R\library --no-vignettes --timings DTA_2.52.0.tar.gz StartedAt: 2025-01-28 01:08:49 -0500 (Tue, 28 Jan 2025) EndedAt: 2025-01-28 01:13:30 -0500 (Tue, 28 Jan 2025) EllapsedTime: 280.7 seconds RetCode: 0 Status: OK CheckDir: DTA.Rcheck Warnings: 0