Package: DTA Version: 2.52.0 Command: chmod a+r DTA -R && F:\biocbuild\bbs-3.20-bioc\R\bin\R.exe CMD build --keep-empty-dirs --no-resave-data DTA StartedAt: 2025-01-27 18:35:23 -0500 (Mon, 27 Jan 2025) EndedAt: 2025-01-27 19:04:24 -0500 (Mon, 27 Jan 2025) EllapsedTime: 1741.2 seconds RetCode: 0 Status: OK PackageFile: DTA_2.52.0.tar.gz PackageFileSize: 11.25 MiB