Package: DTA Version: 2.52.0 Command: /home/biocbuild/bbs-3.20-bioc/R/bin/R CMD INSTALL DTA StartedAt: 2025-01-27 15:57:05 -0500 (Mon, 27 Jan 2025) EndedAt: 2025-01-27 15:57:17 -0500 (Mon, 27 Jan 2025) EllapsedTime: 12.8 seconds RetCode: 0 Status: OK