Package: DTA Version: 2.52.0 Command: /Library/Frameworks/R.framework/Resources/bin/R CMD INSTALL DTA StartedAt: 2025-01-27 15:09:57 -0500 (Mon, 27 Jan 2025) EndedAt: 2025-01-27 15:10:18 -0500 (Mon, 27 Jan 2025) EllapsedTime: 20.6 seconds RetCode: 0 Status: OK